BEGIN:VCALENDAR
PRODID:-//kirchenweb.ch gmbh//veranstaltungsausgabe v2.0//DE
VERSION:2.0
METHOD:PUBLISH
BEGIN:VEVENT
DTSTART:20260224T180000Z
DTEND:20260224T190000Z
LOCATION:kath. Pfarrkirche Oberlunkhofen\, \,
TRANSP:OPAQUE
SEQUENCE:0
UID:5963-veranstaltung@ref-kelleramt.ch
DTSTAMP:20260220T090134Z
DESCRIPTION:Kontakt: Hansruedi Pfister & Fleurie Tross\n\nWeitere Infos:
  https://www.ref-kelleramt.ch/veranstaltung/5963
SUMMARY:Friedensgebet
PRIORITY:5
X-MICROSOFT-CDO-IMPORTANCE:1
CLASS:PUBLIC
END:VEVENT
END:VCALENDAR
